BEGIN:VCALENDAR
VERSION:2.0
PRODID:-//hacksw/handcal//NONSGML v1.0//EN
BEGIN:VEVENT
SUMMARY:Florian Champion de France Espoir de Trail Long
UID:44b9010a-0222-4d64-9459-d60f2eb69ba6
DTSTART:20260328T230000Z
DTEND:20260329T230000Z
LOCATION:Localisation   Bedoin
CATEGORIES:Sportif
STATUS:
URL;VALUE=URI:https://www.aigrefeuilleathletisme.fr/evenements/2026/03/29/florian-champion-de-france-espoir-de-trail-long-2443084
END:VEVENT
END:VCALENDAR
