BEGIN:VCALENDAR
VERSION:2.0
PRODID:-//hacksw/handcal//NONSGML v1.0//EN
BEGIN:VEVENT
SUMMARY:Alexandra sur un podium des Foulees du Lions
UID:dfb9b946-ff8f-46b4-869a-729c63c30125
DTSTART:20260404T220000Z
DTEND:20260405T220000Z
LOCATION:Localisation   Niort
CATEGORIES:Sportif
STATUS:
URL;VALUE=URI:https://www.aigrefeuilleathletisme.fr/evenements/2026/04/05/alexandra-sur-un-podium-des-foulees-du-lions-2444052
END:VEVENT
END:VCALENDAR
