BEGIN:VCALENDAR
VERSION:2.0
PRODID:-//hacksw/handcal//NONSGML v1.0//EN
BEGIN:VEVENT
SUMMARY:Des "verts" au Pont du Diable
UID:7c6823f4-53b8-45e9-994a-d203a52ba360
DTSTART:20260404T220000Z
DTEND:20260405T220000Z
LOCATION:Localisation   SAINT PALAIS SUR MER
CATEGORIES:Sportif
STATUS:
URL;VALUE=URI:https://www.aigrefeuilleathletisme.fr/evenements/2026/04/05/des-verts-au-pont-du-diable-2443575
END:VEVENT
END:VCALENDAR
