BEGIN:VCALENDAR
VERSION:2.0
PRODID:-//hacksw/handcal//NONSGML v1.0//EN
BEGIN:VEVENT
SUMMARY:Quatre coureurs du club pour cette premiere
UID:3e3225a8-3479-4b24-a142-9182144e0a56
DTSTART:20260410T220000Z
DTEND:20260411T220000Z
LOCATION:Localisation Golf de La Pree  Marsilly
CATEGORIES:Sportif
STATUS:
URL;VALUE=URI:https://www.aigrefeuilleathletisme.fr/evenements/2026/04/11/quatre-coureurs-du-club-pour-cette-premiere-2444029
END:VEVENT
END:VCALENDAR
